BEGIN:VCALENDAR
VERSION:2.0
PRODID:-//sebbo.net//ical-generator//EN
NAME:WPT Cambodia 2026
X-WR-CALNAME:WPT Cambodia 2026
BEGIN:VEVENT
UID:1df598ed-911b-426c-9a19-976cdd7d7de5
SEQUENCE:0
DTSTAMP:20260422T052856Z
DTSTART;VALUE=DATE:20260120
DTEND;VALUE=DATE:20260209
X-MICROSOFT-CDO-ALLDAYEVENT:TRUE
X-MICROSOFT-MSNCALENDAR-ALLDAYEVENT:TRUE
SUMMARY:WPT Cambodia 2026
LOCATION:Nagaworld
URL;VALUE=URI:https://staging.pokerpanda.com/series/wpt-cambodia-2026
END:VEVENT
END:VCALENDAR