BEGIN:VCALENDAR
VERSION:2.0
PRODID:-//sebbo.net//ical-generator//EN
NAME:USOP Osaka 2025
X-WR-CALNAME:USOP Osaka 2025
BEGIN:VEVENT
UID:52127032-f115-44c4-a76c-efd218739579
SEQUENCE:0
DTSTAMP:20260422T070134Z
DTSTART;VALUE=DATE:20251001
DTEND;VALUE=DATE:20251008
X-MICROSOFT-CDO-ALLDAYEVENT:TRUE
X-MICROSOFT-MSNCALENDAR-ALLDAYEVENT:TRUE
SUMMARY:USOP Osaka 2025
LOCATION:Dojima River Forum
URL;VALUE=URI:https://staging.pokerpanda.com/series/usop-osaka-oct-2025
END:VEVENT
END:VCALENDAR