BEGIN:VCALENDAR
VERSION:2.0
PRODID:-//sebbo.net//ical-generator//EN
NAME:Triton Poker Super High Roller Series
X-WR-CALNAME:Triton Poker Super High Roller Series
BEGIN:VEVENT
UID:7b9a7513-c99b-4cb1-8a72-198fa33a15f5
SEQUENCE:0
DTSTAMP:20260422T065423Z
DTSTART;VALUE=DATE:20250907
DTEND;VALUE=DATE:20250923
X-MICROSOFT-CDO-ALLDAYEVENT:TRUE
X-MICROSOFT-MSNCALENDAR-ALLDAYEVENT:TRUE
SUMMARY:Triton Poker Super High Roller Series
LOCATION:Landing Casino Jeju
URL;VALUE=URI:https://staging.pokerpanda.com/series/triton-poker-super-hig
 h-roller-series
END:VEVENT
END:VCALENDAR