BEGIN:VCALENDAR
VERSION:2.0
PRODID:-//sebbo.net//ical-generator//EN
NAME:Triton One 2025
X-WR-CALNAME:Triton One 2025
BEGIN:VEVENT
UID:fb875302-a4b0-488c-8c9b-8cfc9dfbbc01
SEQUENCE:0
DTSTAMP:20260422T065806Z
DTSTART;VALUE=DATE:20250901
DTEND;VALUE=DATE:20250908
X-MICROSOFT-CDO-ALLDAYEVENT:TRUE
X-MICROSOFT-MSNCALENDAR-ALLDAYEVENT:TRUE
SUMMARY:Triton One 2025
LOCATION:Landing Casino Jeju 
URL;VALUE=URI:https://staging.pokerpanda.com/series/triton-one-2025
END:VEVENT
END:VCALENDAR