BEGIN:VCALENDAR
VERSION:2.0
PRODID:-//sebbo.net//ical-generator//EN
NAME:SA Poker Super Series (Adelaide) 2025
X-WR-CALNAME:SA Poker Super Series (Adelaide) 2025
BEGIN:VEVENT
UID:e7be7dab-7c6a-4865-9e24-add3a725a7ec
SEQUENCE:0
DTSTAMP:20260422T052527Z
DTSTART;VALUE=DATE:20251201
DTEND;VALUE=DATE:20251216
X-MICROSOFT-CDO-ALLDAYEVENT:TRUE
X-MICROSOFT-MSNCALENDAR-ALLDAYEVENT:TRUE
SUMMARY:SA Poker Super Series (Adelaide) 2025
LOCATION:Matchroom Poker
URL;VALUE=URI:https://staging.pokerpanda.com/series/sa-poker-super-series-
 adelaide-2025
END:VEVENT
END:VCALENDAR