BEGIN:VCALENDAR
VERSION:2.0
PRODID:-//sebbo.net//ical-generator//EN
NAME:RVS Cup 2025
X-WR-CALNAME:RVS Cup 2025
BEGIN:VEVENT
UID:4d535d5b-e97b-4094-a0f8-c0c06e60c983
SEQUENCE:0
DTSTAMP:20260422T054646Z
DTSTART;VALUE=DATE:20251111
DTEND;VALUE=DATE:20251117
X-MICROSOFT-CDO-ALLDAYEVENT:TRUE
X-MICROSOFT-MSNCALENDAR-ALLDAYEVENT:TRUE
SUMMARY:RVS Cup 2025
LOCATION:Metro Cup Club\, Manila\, Philippines
URL;VALUE=URI:https://staging.pokerpanda.com/series/rvs-cup-2025
END:VEVENT
END:VCALENDAR