BEGIN:VCALENDAR
VERSION:2.0
PRODID:-//sebbo.net//ical-generator//EN
NAME:Pokerstars Live Manila Megastack 23
X-WR-CALNAME:Pokerstars Live Manila Megastack 23
BEGIN:VEVENT
UID:fa2b4d5d-3e40-4bbd-8b9c-1961aacbe977
SEQUENCE:0
DTSTAMP:20260422T070133Z
DTSTART;VALUE=DATE:20251126
DTEND;VALUE=DATE:20251208
X-MICROSOFT-CDO-ALLDAYEVENT:TRUE
X-MICROSOFT-MSNCALENDAR-ALLDAYEVENT:TRUE
SUMMARY:Pokerstars Live Manila Megastack 23
LOCATION:Okada Manila
URL;VALUE=URI:https://staging.pokerpanda.com/series/pokerstars-live-manila
 -megastack-23
END:VEVENT
END:VCALENDAR