BEGIN:VCALENDAR
VERSION:2.0
PRODID:-//sebbo.net//ical-generator//EN
NAME:Paradise City Poker Series Season 2
X-WR-CALNAME:Paradise City Poker Series Season 2
BEGIN:VEVENT
UID:4ce8411f-beec-4541-8030-026636cdf199
SEQUENCE:0
DTSTAMP:20260421T212449Z
DTSTART;VALUE=DATE:20250417
DTEND;VALUE=DATE:20250429
X-MICROSOFT-CDO-ALLDAYEVENT:TRUE
X-MICROSOFT-MSNCALENDAR-ALLDAYEVENT:TRUE
SUMMARY:Paradise City Poker Series Season 2
LOCATION:Paradise City\, Incheon
URL;VALUE=URI:https://staging.pokerpanda.com/series/paradise-city-poker-se
 ries-season-2-2025
END:VEVENT
END:VCALENDAR