BEGIN:VCALENDAR
VERSION:2.0
PRODID:-//sebbo.net//ical-generator//EN
NAME:NCPC Poker Championship 2025
X-WR-CALNAME:NCPC Poker Championship 2025
BEGIN:VEVENT
UID:eba099c1-1d7e-405b-af03-adf19526c7bc
SEQUENCE:0
DTSTAMP:20260422T065730Z
DTSTART;VALUE=DATE:20251120
DTEND;VALUE=DATE:20251201
X-MICROSOFT-CDO-ALLDAYEVENT:TRUE
X-MICROSOFT-MSNCALENDAR-ALLDAYEVENT:TRUE
SUMMARY:NCPC Poker Championship 2025
LOCATION:Wyndham Danang Golden Bay Hotel
URL;VALUE=URI:https://staging.pokerpanda.com/series/ncpc-poker-championshi
 p-2025
END:VEVENT
END:VCALENDAR