BEGIN:VCALENDAR
VERSION:2.0
PRODID:-//sebbo.net//ical-generator//EN
NAME:KPC x LPT 2026
X-WR-CALNAME:KPC x LPT 2026
BEGIN:VEVENT
UID:39c0982f-2e06-4984-9ba2-02ec1ac7eb98
SEQUENCE:0
DTSTAMP:20260422T052120Z
DTSTART;VALUE=DATE:20260102
DTEND;VALUE=DATE:20260118
X-MICROSOFT-CDO-ALLDAYEVENT:TRUE
X-MICROSOFT-MSNCALENDAR-ALLDAYEVENT:TRUE
SUMMARY:KPC x LPT 2026
LOCATION:Jeju Shinhwa World
URL;VALUE=URI:https://staging.pokerpanda.com/series/kpc-x-lpt-2026
END:VEVENT
END:VCALENDAR