BEGIN:VCALENDAR
VERSION:2.0
PRODID:-//sebbo.net//ical-generator//EN
NAME:Japan Poker Tour Tokyo 2025 #3
X-WR-CALNAME:Japan Poker Tour Tokyo 2025 #3
BEGIN:VEVENT
UID:f4a9f900-9d47-4b44-b114-5cdb46062017
SEQUENCE:0
DTSTAMP:20260422T052732Z
DTSTART;VALUE=DATE:20251008
DTEND;VALUE=DATE:20251013
X-MICROSOFT-CDO-ALLDAYEVENT:TRUE
X-MICROSOFT-MSNCALENDAR-ALLDAYEVENT:TRUE
SUMMARY:Japan Poker Tour Tokyo 2025 #3
LOCATION:Bellesalle Takadanobaba
URL;VALUE=URI:https://staging.pokerpanda.com/series/japan-poker-tour-tokyo
 -2025-3
END:VEVENT
END:VCALENDAR