BEGIN:VCALENDAR
VERSION:2.0
PRODID:-//sebbo.net//ical-generator//EN
NAME:Japan Open Poker Tour Osaka 2025 #2
X-WR-CALNAME:Japan Open Poker Tour Osaka 2025 #2
BEGIN:VEVENT
UID:e6eefc73-9578-448d-8160-2e7244c109cc
SEQUENCE:0
DTSTAMP:20260422T070049Z
DTSTART;VALUE=DATE:20251029
DTEND;VALUE=DATE:20251103
X-MICROSOFT-CDO-ALLDAYEVENT:TRUE
X-MICROSOFT-MSNCALENDAR-ALLDAYEVENT:TRUE
SUMMARY:Japan Open Poker Tour Osaka 2025 #2
LOCATION:Dojima River Forum
URL;VALUE=URI:https://staging.pokerpanda.com/series/japan-open-poker-tour-
 osaka-2025-2
END:VEVENT
END:VCALENDAR