BEGIN:VCALENDAR
VERSION:2.0
PRODID:-//sebbo.net//ical-generator//EN
NAME:APT Incheon 2026
X-WR-CALNAME:APT Incheon 2026
BEGIN:VEVENT
UID:326bee6d-bbf6-4fdf-ac0d-6d34a4ab6037
SEQUENCE:0
DTSTAMP:20260422T070056Z
DTSTART;VALUE=DATE:20260807
DTEND;VALUE=DATE:20260816
X-MICROSOFT-CDO-ALLDAYEVENT:TRUE
X-MICROSOFT-MSNCALENDAR-ALLDAYEVENT:TRUE
SUMMARY:APT Incheon 2026
LOCATION:Paradise City\, Paradise Group 
URL;VALUE=URI:https://staging.pokerpanda.com/series/apt-incheon-2026
END:VEVENT
END:VCALENDAR