BEGIN:VCALENDAR
VERSION:2.0
PRODID:-//sebbo.net//ical-generator//EN
NAME:APL x P1 Grand Prix Tokyo 2025
X-WR-CALNAME:APL x P1 Grand Prix Tokyo 2025
BEGIN:VEVENT
UID:5ca7b551-5066-4d5a-9e6a-c85930d4ddab
SEQUENCE:0
DTSTAMP:20260422T054803Z
DTSTART;VALUE=DATE:20250918
DTEND;VALUE=DATE:20250923
X-MICROSOFT-CDO-ALLDAYEVENT:TRUE
X-MICROSOFT-MSNCALENDAR-ALLDAYEVENT:TRUE
SUMMARY:APL x P1 Grand Prix Tokyo 2025
LOCATION:Bellesalle Shiodome\, Tokyo
URL;VALUE=URI:https://staging.pokerpanda.com/series/apl-x-p1-grand-prix-to
 kyo-2025
END:VEVENT
END:VCALENDAR